BEGIN:VCALENDAR
VERSION:2.0
PRODID:-//SportPlan//Event Calendar//EN
CALSCALE:GREGORIAN
BEGIN:VEVENT
UID:76d753f6-ad36-42f1-86d0-c19ed236357d@sportplan.local
DTSTAMP:20260420T180436Z
DTSTART;VALUE=DATE:20260502
DTEND;VALUE=DATE:20260503
SUMMARY:Atw Dorney Triathlon - May
DESCRIPTION:
LOCATION:Dorney Lake
URL:https://sportplan.vercel.app/en/events/atw-dorney-triathlon-may-dorney-lake-2026-05-02
END:VEVENT
END:VCALENDAR
