BEGIN:VCALENDAR
VERSION:2.0
PRODID:-//SportPlan//Event Calendar//EN
CALSCALE:GREGORIAN
BEGIN:VEVENT
UID:0df56f0b-96fa-46da-b780-271706df1fda@sportplan.local
DTSTAMP:20260420T192046Z
DTSTART;VALUE=DATE:20260915
DTEND;VALUE=DATE:20260916
SUMMARY:Astrabuduako Herri Krosa
DESCRIPTION:Astrabuduako Herri Krosa se celebra el 15 de septiembre de 2026 en Erandio\, Vizcaya\, País Vasco\, ofreciendo una experiencia deportiva exigente y bien organizada para participantes de distintos niveles. El recorrido de 10 km combina reto físico\, ambiente de evento y una buena oportunidad para disfrutar del entorno local. Es una cita ideal tanto para quienes buscan competir como para quienes quieren sumar una nueva meta al calendario.
LOCATION:Erandio\, Vizcaya\, País Vasco
URL:https://sportplan.vercel.app/en/events/astrabuduako-herri-krosa-erandio-2026-09-15-10k
END:VEVENT
END:VCALENDAR
