BEGIN:VCALENDAR
VERSION:2.0
PRODID:-//SportPlan//Event Calendar//EN
CALSCALE:GREGORIAN
BEGIN:VEVENT
UID:50f8d401-21e7-4207-90e0-1964abf04976@sportplan.local
DTSTAMP:20260420T204325Z
DTSTART;VALUE=DATE:20260531
DTEND;VALUE=DATE:20260601
SUMMARY:ASICS Austrian Women's Run
DESCRIPTION:ASICS Austrian Women's Run ist eine Veranstaltung am 2026-05-31 in Austria. Sie ist eine gute Wahl für alle\, die ein gut organisiertes Sportevent suchen. Die Veranstaltung passt sowohl zu erfahrenen Teilnehmenden als auch zu Menschen\, die etwas Neues ausprobieren möchten.
LOCATION:Austria
URL:https://sportplan.vercel.app/en/events/asics-austrian-women-s-run-2026-05-31
END:VEVENT
END:VCALENDAR
