BEGIN:VCALENDAR
VERSION:2.0
PRODID:-//SportPlan//Event Calendar//EN
CALSCALE:GREGORIAN
BEGIN:VEVENT
UID:526cf2fc-9d11-46d3-8918-d943e6a28f6d@sportplan.local
DTSTAMP:20260420T222410Z
DTSTART;VALUE=DATE:20260607
DTEND;VALUE=DATE:20260608
SUMMARY:Aqua Dome Thermenlauf
DESCRIPTION:Aqua Dome Thermenlauf findet am 7. Juni 2026 in Oberlängenfeld statt. Die Veranstaltung ist eine gute Wahl für alle\, die eine gut organisierte Herausforderung in attraktiver Umgebung suchen. Ideal\, um die Saison zu planen\, die Event-Atmosphäre zu genießen und im eigenen Tempo zu starten.
LOCATION:Oberlängenfeld
URL:https://sportplan.vercel.app/en/events/aqua-dome-thermenlauf-oberlangenfeld-2026-06-07
END:VEVENT
END:VCALENDAR
