BEGIN:VCALENDAR
VERSION:2.0
PRODID:-//SportPlan//Event Calendar//EN
CALSCALE:GREGORIAN
BEGIN:VEVENT
UID:0110bb8b-2c0a-4403-a3d8-bdc1f1a7ce57@sportplan.local
DTSTAMP:20260420T195228Z
DTSTART;VALUE=DATE:20261206
DTEND;VALUE=DATE:20261207
SUMMARY:Antigua Run 2026 — Antigua Run 5K 5K
DESCRIPTION:Antigua Run 2026 — Antigua Run 5K 5K is scheduled for December 6\, 2026 at Antigua Guatemala. It is a solid option for people who want to experience the event live and plan their day in advance. The listed venue is about 5 km away\, so it helps to check access\, timing\, and on-site amenities before heading out.
LOCATION:Antigua Guatemala
URL:https://sportplan.vercel.app/en/events/antigua-run-2026-antigua-run-5k-5k-antigua-guatemala-2026-12-06
END:VEVENT
END:VCALENDAR
