BEGIN:VCALENDAR
VERSION:2.0
PRODID:-//SportPlan//Event Calendar//EN
CALSCALE:GREGORIAN
BEGIN:VEVENT
UID:9bba8007-a18c-4421-a41e-a6486b6ab31b@sportplan.local
DTSTAMP:20260420T195228Z
DTSTART;VALUE=DATE:20261206
DTEND;VALUE=DATE:20261207
SUMMARY:Antigua Run 2026 — Antigua Run 21K 21K
DESCRIPTION:Antigua Run 2026 — Antigua Run 21K 21K is scheduled for December 6\, 2026 at Antigua Guatemala. It is a solid option for people who want to experience the event live and plan their day in advance. The listed venue is about 21 km away\, so it helps to check access\, timing\, and on-site amenities before heading out.
LOCATION:Antigua Guatemala
URL:https://sportplan.vercel.app/en/events/antigua-run-2026-antigua-run-21k-21k-antigua-guatemala-2026-12-06
END:VEVENT
END:VCALENDAR
