BEGIN:VCALENDAR
VERSION:2.0
PRODID:-//SportPlan//Event Calendar//EN
CALSCALE:GREGORIAN
BEGIN:VEVENT
UID:40e70b36-0091-4c99-8471-eef841aced8b@sportplan.local
DTSTAMP:20260420T180333Z
DTSTART;VALUE=DATE:20260903
DTEND;VALUE=DATE:20260908
SUMMARY:Amazfit HYROX Washington D.C. 2026
DESCRIPTION:Amazfit HYROX Washington D.C. 2026 is a five-day mass-participation hybrid fitness race in the United States capital. The official HYROX event page describes an expanded amateur event week that brings elite\, everyday\, and first-time participants together in the standard HYROX race format.
LOCATION:Washington
URL:https://sportplan.vercel.app/en/events/amazfit-hyrox-washington-d-c-2026-2026-09-03
END:VEVENT
END:VCALENDAR
