BEGIN:VCALENDAR
VERSION:2.0
PRODID:-//SportPlan//Event Calendar//EN
CALSCALE:GREGORIAN
BEGIN:VEVENT
UID:124d4ed8-4676-4a2c-aabf-74efe14f215f@sportplan.local
DTSTAMP:20260420T175550Z
DTSTART;VALUE=DATE:20260607
DTEND;VALUE=DATE:20260608
SUMMARY:ALDI Women's Running Gala
DESCRIPTION:Official site for the 31st ALDI Női Futógála in Budapest\, scheduled for 7 June 2026 in Városliget.
LOCATION:Budapest\, Hungary
URL:https://sportplan.vercel.app/en/events/aldi-women-s-running-gala-2026-06-07
END:VEVENT
END:VCALENDAR
