BEGIN:VCALENDAR
VERSION:2.0
PRODID:-//SportPlan//Event Calendar//EN
CALSCALE:GREGORIAN
BEGIN:VEVENT
UID:9e3424ed-8c04-4d04-9407-2b768b5b9f8e@sportplan.local
DTSTAMP:20260420T191912Z
DTSTART;VALUE=DATE:20261114
DTEND;VALUE=DATE:20261115
SUMMARY:AirAsia HYROX Seoul
DESCRIPTION:AirAsia HYROX Seoul runs on 14 to 15 November 2026 at KINTEX in Goyang\, with HYROX Open\, Pro\, Doubles\, Doubles Pro and Relay divisions for amateur-enterable hybrid fitness racing.
LOCATION:KINTEX\, Goyang\, South Korea
URL:https://sportplan.vercel.app/en/events/airasia-hyrox-seoul-2026-11-14
END:VEVENT
END:VCALENDAR
