BEGIN:VCALENDAR
VERSION:2.0
PRODID:-//SportPlan//Event Calendar//EN
CALSCALE:GREGORIAN
BEGIN:VEVENT
UID:d3d25fbe-8e45-4285-a47e-47f223a86b7a@sportplan.local
DTSTAMP:20260420T181144Z
DTSTART;VALUE=DATE:20260823
DTEND;VALUE=DATE:20260824
SUMMARY:Ādažu multisporta čempionāts\, LČ akvatlonā\, LK\, stafetes\,“Vējupe” 2026” atklātā ūdens peldējums
DESCRIPTION:Ādažu multisporta čempionāts\, LČ akvatlonā\, LK\, stafetes\,“Vējupe” 2026” atklātā ūdens peldējums is listed on the official Latvian Triathlon Federation calendar for 2026-08-23 in Ādaži. The federation tournament detail page confirms the event date\, host venue\, and amateur participation format.
LOCATION:Ādaži\, Latvia
URL:https://sportplan.vercel.app/en/events/adazu-multisporta-cempionats-lc-akvatlona-lk-stafetes-vejupe-2026-atklata-udens-peldejums-2026-08-23
END:VEVENT
END:VCALENDAR
