BEGIN:VCALENDAR
VERSION:2.0
PRODID:-//SportPlan//Event Calendar//EN
CALSCALE:GREGORIAN
BEGIN:VEVENT
UID:49ae3dae-1f5e-444b-b2f4-99f917f43fe5@sportplan.local
DTSTAMP:20260420T204559Z
DTSTART;VALUE=DATE:20260914
DTEND;VALUE=DATE:20260915
SUMMARY:Adamello Vertical Kilometer
DESCRIPTION:Adamello Vertical Kilometer si terrà il 14 settembre 2026 a Vione\, BS\, Lombardía\, offrendo un'esperienza sportiva curata e adatta a partecipanti con obiettivi diversi. Con un percorso di 4 km\, l'evento unisce sfida fisica\, atmosfera coinvolgente e valorizzazione del contesto locale. È una scelta interessante sia per chi punta alla prestazione sia per chi vuole aggiungere una nuova sfida al proprio calendario.
LOCATION:Vione\, BS\, Lombardía
URL:https://sportplan.vercel.app/en/events/adamello-vertical-kilometer-vione-2026-09-14-3-7k
END:VEVENT
END:VCALENDAR
