BEGIN:VCALENDAR
VERSION:2.0
PRODID:-//SportPlan//Event Calendar//EN
CALSCALE:GREGORIAN
BEGIN:VEVENT
UID:4d76e609-cbd4-4cd9-8199-1b8c361986c5@sportplan.local
DTSTAMP:20260420T194551Z
DTSTART;VALUE=DATE:20260821
DTEND;VALUE=DATE:20260822
SUMMARY:About Maybank Marathon
DESCRIPTION:Official English about page for the marathon.
LOCATION:Bali\, Indonesia
URL:https://sportplan.vercel.app/en/events/about-maybank-marathon-2026-08-21
END:VEVENT
END:VCALENDAR
