BEGIN:VCALENDAR
VERSION:2.0
PRODID:-//SportPlan//Event Calendar//EN
CALSCALE:GREGORIAN
BEGIN:VEVENT
UID:7669e1b5-abc2-4f10-a853-b629535295ca@sportplan.local
DTSTAMP:20260420T221748Z
DTSTART;VALUE=DATE:20260627
DTEND;VALUE=DATE:20260628
SUMMARY:Abedurio Trail Race
DESCRIPTION:Abedurio Trail Race se celebrará el 2026-06-27 en El Entrego\, Asturias. Es una buena opción para quienes buscan un reto bien organizado sobre una distancia de 23 km. Ideal tanto para participantes que quieren competir como para quienes prefieren disfrutar del ambiente del evento.
LOCATION:El Entrego\, Asturias
URL:https://sportplan.vercel.app/en/events/abedurio-trail-race-el-entrego-2026-06-27
END:VEVENT
END:VCALENDAR
