BEGIN:VCALENDAR
VERSION:2.0
PRODID:-//SportPlan//Event Calendar//EN
CALSCALE:GREGORIAN
BEGIN:VEVENT
UID:a147e89e-f636-4357-a147-790111478571@sportplan.local
DTSTAMP:20260420T195041Z
DTSTART;VALUE=DATE:20261025
DTEND;VALUE=DATE:20261026
SUMMARY:A city that runs. A festival that celebrates.
DESCRIPTION:
LOCATION:Jakarta\, Indonesia
URL:https://sportplan.vercel.app/en/events/a-city-that-runs-a-festival-that-celebrates-2026-10-25
END:VEVENT
END:VCALENDAR
