BEGIN:VCALENDAR
VERSION:2.0
PRODID:-//SportPlan//Event Calendar//EN
CALSCALE:GREGORIAN
BEGIN:VEVENT
UID:aaf5e153-5cea-468d-97da-edba487634ad@sportplan.local
DTSTAMP:20260420T192032Z
DTSTART;VALUE=DATE:20260712
DTEND;VALUE=DATE:20260713
SUMMARY:7 Cairns Marathon and Community Run Festival
DESCRIPTION:Discovered via RunCalendar Australia marathons listing.
LOCATION:Fogarty Park\, QLD\, Australia
URL:https://sportplan.vercel.app/en/events/7-cairns-marathon-and-community-run-festival-2026-07-12
END:VEVENT
END:VCALENDAR
