BEGIN:VCALENDAR
VERSION:2.0
PRODID:-//SportPlan//Event Calendar//EN
CALSCALE:GREGORIAN
BEGIN:VEVENT
UID:0f1f74ec-b99b-4c96-aded-8bca41bd6871@sportplan.local
DTSTAMP:20260420T180303Z
DTSTART;VALUE=DATE:20260606
DTEND;VALUE=DATE:20260607
SUMMARY:6 Heures Running by Cordon Electronics
DESCRIPTION:6 Heures Running by Cordon Electronics aura lieu le 6 juin 2026 à Plouër-sur-Rance. C'est un bon choix pour les participants à la recherche d'un défi bien organisé dans un cadre attractif. Une belle occasion de préparer la saison\, profiter de l'ambiance et participer à son propre rythme.
LOCATION:Plouër-sur-Rance
URL:https://sportplan.vercel.app/en/events/6-heures-running-by-cordon-electronics-plouer-sur-rance-2026-06-06
END:VEVENT
END:VCALENDAR
