BEGIN:VCALENDAR
VERSION:2.0
PRODID:-//SportPlan//Event Calendar//EN
CALSCALE:GREGORIAN
BEGIN:VEVENT
UID:17fd45dc-74bd-4622-bd8e-3ac83706c279@sportplan.local
DTSTAMP:20260420T180441Z
DTSTART;VALUE=DATE:20260530
DTEND;VALUE=DATE:20260531
SUMMARY:5K Beer Run x Old Harbor Brewery - PR Brewery Running Series
DESCRIPTION:PR Brewery Running Series 5K fun run\; Puerto Rico TIER1
LOCATION:Carolina\, Puerto Rico
URL:https://sportplan.vercel.app/en/events/5k-beer-run-x-old-harbor-brewery-pr-brewery-running-series-2026-05-30
END:VEVENT
END:VCALENDAR
