BEGIN:VCALENDAR
VERSION:2.0
PRODID:-//SportPlan//Event Calendar//EN
CALSCALE:GREGORIAN
BEGIN:VEVENT
UID:c6592135-894b-47f5-a121-c3694685e8a6@sportplan.local
DTSTAMP:20260420T180442Z
DTSTART;VALUE=DATE:20260425
DTEND;VALUE=DATE:20260426
SUMMARY:5K Beer Run x Adrede Taberna Cervecera - PR Brewery Running Series
DESCRIPTION:5K Beer Run x Adrede Taberna Cervecera - PR Brewery Running Series is an official open-participation 5K fun run in Cayey\, Puerto Rico on 25 April 2026. The event is listed on the official Puerto Rico Brewery Running Series schedule and uses the organizer's official Puerto Rico series page\, with Eventbrite only as the registration link.
LOCATION:Cayey
URL:https://sportplan.vercel.app/en/events/5k-beer-run-x-adrede-taberna-cervecera-pr-brewery-running-series-2026-04-25
END:VEVENT
END:VCALENDAR
