BEGIN:VCALENDAR
VERSION:2.0
PRODID:-//SportPlan//Event Calendar//EN
CALSCALE:GREGORIAN
BEGIN:VEVENT
UID:b179222c-5c60-493a-a482-af2e731b239d@sportplan.local
DTSTAMP:20260420T180550Z
DTSTART;VALUE=DATE:20260606
DTEND;VALUE=DATE:20260607
SUMMARY:5 Peaks Trail Running Series: Canmore Nordic Centre #1
DESCRIPTION:
LOCATION:Canmore
URL:https://sportplan.vercel.app/en/events/5-peaks-trail-running-series-canmore-nordic-centre-1-canmore-2026-06-06
END:VEVENT
END:VCALENDAR
