BEGIN:VCALENDAR
VERSION:2.0
PRODID:-//SportPlan//Event Calendar//EN
CALSCALE:GREGORIAN
BEGIN:VEVENT
UID:bd2cab6d-d01a-4259-9e1f-5c48d89731a3@sportplan.local
DTSTAMP:20260420T204329Z
DTSTART;VALUE=DATE:20260906
DTEND;VALUE=DATE:20260907
SUMMARY:41th Wizz Air Budapest Half Marathon
DESCRIPTION:Official site for the 41st Wizz Air Budapest Félmaraton in Budapest on 6 September 2026.
LOCATION:Budapest\, Hungary
URL:https://sportplan.vercel.app/en/events/41th-wizz-air-budapest-half-marathon-2026-09-06
END:VEVENT
END:VCALENDAR
