BEGIN:VCALENDAR
VERSION:2.0
PRODID:-//SportPlan//Event Calendar//EN
CALSCALE:GREGORIAN
BEGIN:VEVENT
UID:f02c1d4c-3ad3-4de5-aec2-6ebaba79051b@sportplan.local
DTSTAMP:20260420T225849Z
DTSTART;VALUE=DATE:20260428
DTEND;VALUE=DATE:20260429
SUMMARY:4. Tallinna Teisipäevak
DESCRIPTION:4. Tallinna Teisipäevak is an official amateur weekly orienteering event in the Harku area of Tallinn\, Estonia on 28 April 2026. The official Estonian Orienteering Federation event page confirms the 2026 date\, venue area\, and organizer\, while the official OK Nõmme site describes the Tuesday series as a weekly public orienteering event held from April to September in Tallinn and Harjumaa.
LOCATION:Harku\, Tallinn\, Estonia
URL:https://sportplan.vercel.app/en/events/4-tallinna-teisipaevak-2026-04-28
END:VEVENT
END:VCALENDAR
