BEGIN:VCALENDAR
VERSION:2.0
PRODID:-//SportPlan//Event Calendar//EN
CALSCALE:GREGORIAN
BEGIN:VEVENT
UID:7de9940b-7c7f-4873-a7c2-fc89c92bd7f6@sportplan.local
DTSTAMP:20260420T163014Z
DTSTART;VALUE=DATE:20260421
DTEND;VALUE=DATE:20260422
SUMMARY:3comarques Llarga
DESCRIPTION:The official Cursa 3 Comarques site presents Trail 3 Comarques as a long-running mountain race in Alpens\, Catalonia\, built around local trails and amateur participation in multiple distance formats.
LOCATION:ALPENS\, Barcelona\, Cataluña
URL:https://sportplan.vercel.app/en/events/3comarques-llarga-alpens-2026-04-21-25k
END:VEVENT
END:VCALENDAR
