BEGIN:VCALENDAR
VERSION:2.0
PRODID:-//SportPlan//Event Calendar//EN
CALSCALE:GREGORIAN
BEGIN:VEVENT
UID:db12ae5f-83f1-4e34-b5be-615cb6ce582c@sportplan.local
DTSTAMP:20260420T163013Z
DTSTART;VALUE=DATE:20260421
DTEND;VALUE=DATE:20260422
SUMMARY:3comarques - Curta
DESCRIPTION:The official Cursa 3 Comarques site presents Trail 3 Comarques as a long-running mountain race in Alpens\, Catalonia\, built around local trails and amateur participation in multiple distance formats.
LOCATION:ALPENS\, Barcelona\, Cataluña
URL:https://sportplan.vercel.app/en/events/3comarques-curta-alpens-2026-04-21-1-3k
END:VEVENT
END:VCALENDAR
