BEGIN:VCALENDAR
VERSION:2.0
PRODID:-//SportPlan//Event Calendar//EN
CALSCALE:GREGORIAN
BEGIN:VEVENT
UID:44c4a0e5-3dd4-47ba-a1f3-8278a41eb93f@sportplan.local
DTSTAMP:20260420T191613Z
DTSTART;VALUE=DATE:20261005
DTEND;VALUE=DATE:20261006
SUMMARY:3cims
DESCRIPTION:3cims se celebrará en Vilafames\, Castelló\, Comunidad Valenciana el 5 octubre 2026. Es una cita ideal para quienes buscan una experiencia deportiva bien organizada y un recorrido de 14 km. Perfecto tanto para participantes que quieren rendir al máximo como para quienes desean disfrutar del ambiente del evento.
LOCATION:Vilafames\, Castelló\, Comunidad Valenciana
URL:https://sportplan.vercel.app/en/events/3cims-vilafames-2026-10-05-14k
END:VEVENT
END:VCALENDAR
