BEGIN:VCALENDAR
VERSION:2.0
PRODID:-//SportPlan//Event Calendar//EN
CALSCALE:GREGORIAN
BEGIN:VEVENT
UID:ffe050e4-f49b-40b6-bc1e-0890d8922456@sportplan.local
DTSTAMP:20260420T175414Z
DTSTART;VALUE=DATE:20260516
DTEND;VALUE=DATE:20260517
SUMMARY:24h Running
DESCRIPTION:24h Running aura lieu le 16 mai 2026 à Brette-les-Pins\, dans un cadre parfait pour profiter de l'événement et de l'ambiance de course. Le tracé et l'atmosphère en font un rendez-vous séduisant pour les coureurs en quête d'un nouveau défi.
LOCATION:Brette-les-Pins
URL:https://sportplan.vercel.app/en/events/24h-running-brette-les-pins-2026-05-16
END:VEVENT
END:VCALENDAR
