BEGIN:VCALENDAR
VERSION:2.0
PRODID:-//SportPlan//Event Calendar//EN
CALSCALE:GREGORIAN
BEGIN:VEVENT
UID:c7baa26b-9bfc-4fa3-97f9-1c6d5549f59f@sportplan.local
DTSTAMP:20260420T195229Z
DTSTART;VALUE=DATE:20260719
DTEND;VALUE=DATE:20260720
SUMMARY:21K las Rosas 2026 — 21K las Rosas 21K
DESCRIPTION:21K las Rosas 2026 — 21K las Rosas 21K takes place in Antigua Guatemala on July 19\, 2026\, bringing runners together for an enjoyable event in a memorable setting. Expect covering approximately 21 km with a well-marked route and race-day energy\, making it a solid choice for both committed participants and motivated newcomers.
LOCATION:Antigua Guatemala
URL:https://sportplan.vercel.app/en/events/21k-las-rosas-2026-21k-las-rosas-21k-antigua-guatemala-2026-07-19
END:VEVENT
END:VCALENDAR
