BEGIN:VCALENDAR
VERSION:2.0
PRODID:-//SportPlan//Event Calendar//EN
CALSCALE:GREGORIAN
BEGIN:VEVENT
UID:6bd56289-8ed1-4bda-932e-6eb49e323266@sportplan.local
DTSTAMP:20260420T204330Z
DTSTART;VALUE=DATE:20260705
DTEND;VALUE=DATE:20260706
SUMMARY:2 KV Collarada
DESCRIPTION:2 KV Collarada se celebrará el 5 de julio de 2026 en Villanúa\, Huesca. Es una cita ideal para quienes buscan una experiencia bien organizada con una distancia oficial y un ambiente deportivo atractivo. Participar en esta prueba es una gran oportunidad para disfrutar del recorrido\, marcarse un objetivo y vivir el evento junto a otros corredores.
LOCATION:Villanúa\, Huesca
URL:https://sportplan.vercel.app/en/events/2-kv-collarada-villan-a-2026-07-05
END:VEVENT
END:VCALENDAR
