BEGIN:VCALENDAR
VERSION:2.0
PRODID:-//SportPlan//Event Calendar//EN
CALSCALE:GREGORIAN
BEGIN:VEVENT
UID:f5404cb0-90ff-406e-9b00-89758841904b@sportplan.local
DTSTAMP:20260420T191850Z
DTSTART;VALUE=DATE:20260517
DTEND;VALUE=DATE:20260518
SUMMARY:15K GIS 2026 — RELEVOS
DESCRIPTION:15K GIS 2026 — RELEVOS se celebrará el 17 mayo 2026 en Saltillo\, reuniendo a corredores en un entorno ideal para disfrutar de la jornada. El recorrido y el ambiente la convierten en una cita atractiva para quienes buscan un reto deportivo bien organizado.
LOCATION:Saltillo
URL:https://sportplan.vercel.app/en/events/15k-gis-2026-relevos-saltillo-2026-05-17
END:VEVENT
END:VCALENDAR
