BEGIN:VCALENDAR
VERSION:2.0
PRODID:-//SportPlan//Event Calendar//EN
CALSCALE:GREGORIAN
BEGIN:VEVENT
UID:7c527761-0b3f-4cd1-ad8a-15a7c4b5c887@sportplan.local
DTSTAMP:20260420T204845Z
DTSTART;VALUE=DATE:20260517
DTEND;VALUE=DATE:20260518
SUMMARY:15K GIS 2026 — 15K COLABORADORES GIS 15k
DESCRIPTION:15K GIS 2026 — 15K COLABORADORES GIS 15k se celebrará el 17 mayo 2026 en Saltillo\, reuniendo a corredores en un entorno ideal para disfrutar de la jornada. Con una distancia de 15 km\, la prueba combina esfuerzo\, ritmo y una experiencia pensada tanto para competir como para vivir el ambiente del evento.
LOCATION:Saltillo
URL:https://sportplan.vercel.app/en/events/15k-gis-2026-15k-colaboradores-gis-15k-saltillo-2026-05-17
END:VEVENT
END:VCALENDAR
