BEGIN:VCALENDAR
VERSION:2.0
PRODID:-//SportPlan//Event Calendar//EN
CALSCALE:GREGORIAN
BEGIN:VEVENT
UID:1f9dde3d-d9e1-458b-957c-1af34f8bd38d@sportplan.local
DTSTAMP:20260420T211614Z
DTSTART;VALUE=DATE:20261119
DTEND;VALUE=DATE:20261120
SUMMARY:13K Ridge Run - International Running Challenge
DESCRIPTION:13K Ridge Run - International Running Challenge se celebrará el 19 noviembre 2026 en Lanzarote\, Lanzarote\, Canarias\, ofreciendo una cita ideal para quienes quieren vivir el ambiente del evento desde cerca. Con una distancia aproximada de 13 km\, es una opción atractiva tanto para participantes habituales como para quienes quieren sumar un nuevo reto en el calendario.
LOCATION:Lanzarote\, Lanzarote\, Canarias
URL:https://sportplan.vercel.app/en/events/13k-ridge-run-international-running-challenge-lanzarote-2026-11-19-13k
END:VEVENT
END:VCALENDAR
