BEGIN:VCALENDAR
VERSION:2.0
PRODID:-//SportPlan//Event Calendar//EN
CALSCALE:GREGORIAN
BEGIN:VEVENT
UID:d978722f-d92a-45c4-b989-66c337db2f35@sportplan.local
DTSTAMP:20260420T193559Z
DTSTART;VALUE=DATE:20260530
DTEND;VALUE=DATE:20260531
SUMMARY:11TRI Zlatiborski Triatlon 2026
DESCRIPTION:11TRI Zlatiborski Triatlon 2026 is an official amateur triathlon in Zlatibor\, Serbia on 30 May 2026. The Serbian Triathlon Federation event page links to the official 11TRI event site\, and the organizer page states that 11TRI organizes the event\, publishes full race info\, pricing\, a 150-athlete limit\, online registration\, relay options\, junior and youth categories\, and absolute age-group racing.
LOCATION:Kraljevo jezero\, Zlatibor
URL:https://sportplan.vercel.app/en/events/11tri-zlatiborski-triatlon-2026-2026-05-30
END:VEVENT
END:VCALENDAR
