BEGIN:VCALENDAR
VERSION:2.0
PRODID:-//SportPlan//Event Calendar//EN
CALSCALE:GREGORIAN
BEGIN:VEVENT
UID:5805b463-0396-4afd-8443-cb8d809b912e@sportplan.local
DTSTAMP:20260420T191936Z
DTSTART;VALUE=DATE:20260511
DTEND;VALUE=DATE:20260512
SUMMARY:101 KM en 24 Horas
DESCRIPTION:101 KM en 24 Horas se celebra el 11 de mayo de 2026 en Ronda\, Málaga\, Andalucía. La prueba recorre 101 km. Ideal para participantes que quieren disfrutar del recorrido\, el ambiente del evento y una jornada activa.
LOCATION:Ronda\, Málaga\, Andalucía
URL:https://sportplan.vercel.app/en/events/101-km-en-24-horas-ronda-2026-05-11-101k
END:VEVENT
END:VCALENDAR
