BEGIN:VCALENDAR
VERSION:2.0
PRODID:-//SportPlan//Event Calendar//EN
CALSCALE:GREGORIAN
BEGIN:VEVENT
UID:2ee5086e-6e30-453b-9856-19a3baf50e9d@sportplan.local
DTSTAMP:20260420T175545Z
DTSTART;VALUE=DATE:20260606
DTEND;VALUE=DATE:20260608
SUMMARY:0-2000 Cycling Challenge 2026
DESCRIPTION:0-2000 Cycling Challenge 2026 is an official amateur road-cycling event in Cyprus on 6 and 7 June 2026. The official Activate Cyprus page presents a two-day climbing challenge from sea level toward Olympus with road-race and individual time-trial formats\, plus a beginner-friendly 1000-2000 option\, with public participation categories and registration details.
LOCATION:Troodos Square\, Cyprus
URL:https://sportplan.vercel.app/en/events/0-2000-cycling-challenge-2026-troodos-2026-06-06
END:VEVENT
END:VCALENDAR
