BEGIN:VCALENDAR
VERSION:2.0
PRODID:-//SportPlan//Event Calendar//EN
CALSCALE:GREGORIAN
BEGIN:VEVENT
UID:c26ef735-a4ec-41e5-bb71-c4d110a0ca8f@sportplan.local
DTSTAMP:20260420T233601Z
DTSTART;VALUE=DATE:20260704
DTEND;VALUE=DATE:20260705
SUMMARY:Zermatt Marathon
DESCRIPTION:official event page\; Tier 2 country scout
LOCATION:St. Niklaus to Riffelberg\, Switzerland
URL:https://sportplan.vercel.app/de/events/zermatt-marathon-2026-07-04
END:VEVENT
END:VCALENDAR
