BEGIN:VCALENDAR
VERSION:2.0
PRODID:-//SportPlan//Event Calendar//EN
CALSCALE:GREGORIAN
BEGIN:VEVENT
UID:97f8e929-df40-4c2c-879c-fd3f502abbed@sportplan.local
DTSTAMP:20260420T204315Z
DTSTART;VALUE=DATE:20261011
DTEND;VALUE=DATE:20261012
SUMMARY:Zagreb Marathon | World's Marathons
DESCRIPTION:Zagreb Marathon 2026 is the official 34th Zagreb Marathon race weekend in Zagreb\, Croatia on 11 October 2026. The official race site confirms marathon\, half marathon\, and 10K races with start and finish at Ban Josip Jelačić Square\, replacing the prior aggregator canonical.
LOCATION:Zagreb\, Croatia
URL:https://sportplan.vercel.app/de/events/zagreb-marathon-world-s-marathons-2026-10-11
END:VEVENT
END:VCALENDAR
