BEGIN:VCALENDAR
VERSION:2.0
PRODID:-//SportPlan//Event Calendar//EN
CALSCALE:GREGORIAN
BEGIN:VEVENT
UID:bb7926e7-733e-4dfd-98c0-c96e1189fa88@sportplan.local
DTSTAMP:20260420T174231Z
DTSTART;VALUE=DATE:20260725
DTEND;VALUE=DATE:20260726
SUMMARY:Youth Aquathlon League Series 2 – Singapore 2026
DESCRIPTION:Youth Aquathlon League Series 2 is part of the 2026 Singapore Youth Aquathlon League presented by the Triathlon Association of Singapore in collaboration with TriFactor. The previously linked /youth-league/ page now returns 404\, so the official Singapore Aquathlon homepage is the safest current canonical source for the live 2026 league.
LOCATION:Singapore
URL:https://sportplan.vercel.app/de/events/youth-aquathlon-league-series-2-singapore-2026-2026-07-25
END:VEVENT
END:VCALENDAR
