BEGIN:VCALENDAR
VERSION:2.0
PRODID:-//SportPlan//Event Calendar//EN
CALSCALE:GREGORIAN
BEGIN:VEVENT
UID:c791a14b-20ee-4a78-98c9-b60bd8d7ce15@sportplan.local
DTSTAMP:20260420T191912Z
DTSTART;VALUE=DATE:20260526
DTEND;VALUE=DATE:20260527
SUMMARY:XXXVII Cross de la Estrella
DESCRIPTION:XXXVII Cross de la Estrella se celebrará el 26 de mayo de 2026 en Mosqueruela\, Teruel\, Aragón. Es una cita ideal para quienes buscan disfrutar del ambiente del evento y vivir una experiencia deportiva bien organizada. Perfecto tanto para participantes habituales como para quienes quieren sumar un nuevo reto al calendario.
LOCATION:Mosqueruela\, Teruel\, Aragón
URL:https://sportplan.vercel.app/de/events/xxxvii-cross-de-la-estrella-mosqueruela-2026-05-26
END:VEVENT
END:VCALENDAR
