BEGIN:VCALENDAR
VERSION:2.0
PRODID:-//SportPlan//Event Calendar//EN
CALSCALE:GREGORIAN
BEGIN:VEVENT
UID:daec3aa9-0b46-47a2-b228-6fe380e93d4f@sportplan.local
DTSTAMP:20260420T192149Z
DTSTART;VALUE=DATE:20260510
DTEND;VALUE=DATE:20260511
SUMMARY:XXI Pujada al Monti 2026 — III Monti Express 10K 10K
DESCRIPTION:XXI Pujada al Monti 2026 — III Monti Express 10K 10K se celebra en Castellón de la Plana el 10 de mayo de 2026\, reuniendo a corredores en un ambiente lleno de energía. Ya sea para buscar tu mejor marca o para disfrutar del recorrido de 10 km\, es una gran oportunidad para vivir la carrera en Castellón de la Plana.
LOCATION:Castellón de la Plana
URL:https://sportplan.vercel.app/de/events/xxi-pujada-al-monti-2026-iii-monti-express-10k-10k-castellon-de-la-plana-2026-05-10
END:VEVENT
END:VCALENDAR
