BEGIN:VCALENDAR
VERSION:2.0
PRODID:-//SportPlan//Event Calendar//EN
CALSCALE:GREGORIAN
BEGIN:VEVENT
UID:c77579f1-b5cf-4ce8-ac91-c1ac50c77ce2@sportplan.local
DTSTAMP:20260420T234634Z
DTSTART;VALUE=DATE:20260913
DTEND;VALUE=DATE:20260914
SUMMARY:XVII Bieg Męczeństwa i Pamięci Narodowej Na Szwederowie — Bieg Główny 2.5 km 2.5K
DESCRIPTION:
LOCATION:Bydgoszcz
URL:https://sportplan.vercel.app/de/events/xvii-bieg-meczenstwa-i-pamieci-narodowej-na-szwederowie-bieg-g-owny-2-5km-2-5k-bydgoszcz-2026-09-13
END:VEVENT
END:VCALENDAR
