BEGIN:VCALENDAR
VERSION:2.0
PRODID:-//SportPlan//Event Calendar//EN
CALSCALE:GREGORIAN
BEGIN:VEVENT
UID:a14e49c9-88a1-4e31-8fd7-d42e203f9136@sportplan.local
DTSTAMP:20260420T234720Z
DTSTART;VALUE=DATE:20260913
DTEND;VALUE=DATE:20260914
SUMMARY:XVII Bieg Męczeństwa i Pamięci Narodowej Na Szwederowie — Bieg Główny 10km 10K
DESCRIPTION:
LOCATION:Bydgoszcz
URL:https://sportplan.vercel.app/de/events/xvii-bieg-meczenstwa-i-pamieci-narodowej-na-szwederowie-bieg-g-owny-10km-10k-bydgoszcz-2026-09-13
END:VEVENT
END:VCALENDAR
