BEGIN:VCALENDAR
VERSION:2.0
PRODID:-//SportPlan//Event Calendar//EN
CALSCALE:GREGORIAN
BEGIN:VEVENT
UID:0477db6d-2c01-4a64-97b8-8d75ba40f212@sportplan.local
DTSTAMP:20260420T204721Z
DTSTART;VALUE=DATE:20260711
DTEND;VALUE=DATE:20260713
SUMMARY:XTERRA South American Championship 2026
DESCRIPTION:XTERRA South American Championship 2026 is an amateur off-road triathlon weekend in Paipa\, Boyacá\, Colombia. The official XTERRA event page lists a 11 to 12 July 2026 program with off-road triathlon and trail run races\, open registration\, and World Tour branding for age-group participation.
LOCATION:Paipa
URL:https://sportplan.vercel.app/de/events/xterra-south-american-championship-2026-paipa-2026-07-11
END:VEVENT
END:VCALENDAR
