BEGIN:VCALENDAR
VERSION:2.0
PRODID:-//SportPlan//Event Calendar//EN
CALSCALE:GREGORIAN
BEGIN:VEVENT
UID:6b0b1c13-1e97-451f-9d81-224c908f4c4a@sportplan.local
DTSTAMP:20260420T191741Z
DTSTART;VALUE=DATE:20260314
DTEND;VALUE=DATE:20260315
SUMMARY:XT Talverogain 2026
DESCRIPTION:XT Talverogain 2026 is an official amateur rogaining event in Tallinn\, Estonia on 14 March 2026. The Estonian Orienteering Federation calendar lists the event as a rogain organized by XT Sport in Tallinn\, and the official XT Sport event page places the competition centre at Tallinna Pääsküla Kool with open class-based team participation and detailed course information.
LOCATION:Tallinna Pääsküla Kool
URL:https://sportplan.vercel.app/de/events/xt-talverogain-2026-tallinn-2026-03-14
END:VEVENT
END:VCALENDAR
