BEGIN:VCALENDAR
VERSION:2.0
PRODID:-//SportPlan//Event Calendar//EN
CALSCALE:GREGORIAN
BEGIN:VEVENT
UID:a6d0a500-99f2-40ed-9322-de359539e8b0@sportplan.local
DTSTAMP:20260420T195021Z
DTSTART;VALUE=DATE:20260627
DTEND;VALUE=DATE:20260628
SUMMARY:XIX Desértica Olivera Belchite - 13K
DESCRIPTION:
LOCATION:Belchite\, Zaragoza\, Aragón
URL:https://sportplan.vercel.app/de/events/xix-desertica-olivera-belchite-13k-belchite-2026-06-27-13k
END:VEVENT
END:VCALENDAR
