BEGIN:VCALENDAR
VERSION:2.0
PRODID:-//SportPlan//Event Calendar//EN
CALSCALE:GREGORIAN
BEGIN:VEVENT
UID:524567c3-1c76-451b-8759-dd0cffedc538@sportplan.local
DTSTAMP:20260420T192132Z
DTSTART;VALUE=DATE:20260425
DTEND;VALUE=DATE:20260426
SUMMARY:XI Carrera Popular y Solidaria Trotadunas 2026 — Dorsal &quot\;0&quot\; (Solo Donaciones\, No Válido para Participar)
DESCRIPTION:XI Carrera Popular y Solidaria Trotadunas 2026 — Dorsal &quot\;0&quot\; (Solo Donaciones\, No Válido para Participar) se celebra el 25 de abril de 2026 en Puerto del Rosario. Es una buena opción para quienes buscan un evento bien organizado en un entorno atractivo. Consulta la información oficial del organizador para conocer horarios\, recogida de dorsales y detalles logísticos.
LOCATION:Puerto del Rosario
URL:https://sportplan.vercel.app/de/events/xi-carrera-popular-y-solidaria-trotadunas-2026-dorsal-quot-0-quot-solo-donaciones-no-valido-para-participar-puerto-del-rosario-2026-04-25
END:VEVENT
END:VCALENDAR
