BEGIN:VCALENDAR
VERSION:2.0
PRODID:-//SportPlan//Event Calendar//EN
CALSCALE:GREGORIAN
BEGIN:VEVENT
UID:2f97b4b5-04e1-410f-ba1c-06aebd61f7f9@sportplan.local
DTSTAMP:20260420T160914Z
DTSTART;VALUE=DATE:20260703
DTEND;VALUE=DATE:20260705
SUMMARY:X-WATERS Ufa 2026
DESCRIPTION:X-WATERS Ufa 2026 is an official amateur open-water swimming weekend in Ufa\, Bashkortostan\, Russia. The official event page lists 3 to 4 July 2026 on the Belaya and Ufa rivers and offers public-entry distances of 500 m\, 1 km\, 2.5 km\, 5 km\, relay 5+5 km\, 10 km and 20 km.
LOCATION:Belaya River and Ufa River\, Ufa
URL:https://sportplan.vercel.app/de/events/x-waters-ufa-2026-2026-07-03
END:VEVENT
END:VCALENDAR
