BEGIN:VCALENDAR
VERSION:2.0
PRODID:-//SportPlan//Event Calendar//EN
CALSCALE:GREGORIAN
BEGIN:VEVENT
UID:138d6126-275a-457e-bd94-cbc27254542d@sportplan.local
DTSTAMP:20260420T161034Z
DTSTART;VALUE=DATE:20260503
DTEND;VALUE=DATE:20260504
SUMMARY:X-WATERS Antalya 2026
DESCRIPTION:X-WATERS Antalya 2026 is an amateur open-water swimming event on Konyaalti Beach in Antalya\, Turkey. The official organizer page names the 2026 edition\, lists the race weekend as 1 to 3 May 2026\, and shows the main swim program on Sunday 3 May 2026. The event offers public participation distances including 500 m\, 1 mile\, 5 km\, relay 2x1 km\, and youth swims\, with the start village at the beginning of Konyaalti Beach near the Antalya Museum.
LOCATION:Konyaalti Beach
URL:https://sportplan.vercel.app/de/events/x-waters-antalya-2026-2026-05-03
END:VEVENT
END:VCALENDAR
