BEGIN:VCALENDAR
VERSION:2.0
PRODID:-//SportPlan//Event Calendar//EN
CALSCALE:GREGORIAN
BEGIN:VEVENT
UID:dc4c9fd3-b9a9-4c12-a030-fa6afd34b073@sportplan.local
DTSTAMP:20260420T234516Z
DTSTART;VALUE=DATE:20260913
DTEND;VALUE=DATE:20260914
SUMMARY:Wroclaw Marathon 2026
DESCRIPTION:
LOCATION:Wrocław\, Lower Silesia
URL:https://sportplan.vercel.app/de/events/wroclaw-marathon-2026-wroc-aw-2026-09-13
END:VEVENT
END:VCALENDAR
