BEGIN:VCALENDAR
VERSION:2.0
PRODID:-//SportPlan//Event Calendar//EN
CALSCALE:GREGORIAN
BEGIN:VEVENT
UID:8c103d1e-7faf-4db6-9e37-28dd880e85bc@sportplan.local
DTSTAMP:20260420T204333Z
DTSTART;VALUE=DATE:20261004
DTEND;VALUE=DATE:20261005
SUMMARY:Wop Challenge 1day
DESCRIPTION:Wop Challenge 1day se celebra en Bilbao\, Bizkaia\, País Vasco el 4 de octubre de 2026\, ofreciendo a los corredores una ocasión ideal para disfrutar de un ambiente competitivo y bien organizado en ES. La distancia anunciada es de 50 km\, una propuesta atractiva para corredores que buscan un reto claro y una jornada especial. Es una prueba pensada para vivir una jornada deportiva motivadora\, tanto para atletas experimentados como para participantes entusiastas.
LOCATION:Bilbao\, Bizkaia\, País Vasco
URL:https://sportplan.vercel.app/de/events/wop-challenge-1day-bilbao-2026-10-04-50k
END:VEVENT
END:VCALENDAR
