BEGIN:VCALENDAR
VERSION:2.0
PRODID:-//SportPlan//Event Calendar//EN
CALSCALE:GREGORIAN
BEGIN:VEVENT
UID:8cb31a57-c2ad-4808-9d57-82844ac67e34@sportplan.local
DTSTAMP:20260421T030830Z
DTSTART;VALUE=DATE:20260524
DTEND;VALUE=DATE:20260525
SUMMARY:Woodlands Trail Run
DESCRIPTION:
LOCATION:Melbourne
URL:https://sportplan.vercel.app/de/events/woodlands-trail-run-melbourne-2026-05-24
END:VEVENT
END:VCALENDAR
