BEGIN:VCALENDAR
VERSION:2.0
PRODID:-//SportPlan//Event Calendar//EN
CALSCALE:GREGORIAN
BEGIN:VEVENT
UID:51a4fe40-9409-4e45-8f2c-ff8310cb9051@sportplan.local
DTSTAMP:20260420T204407Z
DTSTART;VALUE=DATE:20260510
DTEND;VALUE=DATE:20260511
SUMMARY:Wings For Life World Run LATVIA
DESCRIPTION:discovered via Latvian Athletics Federation official calendar (athletics.lv)\; Latvia had 6 queue entries before this run and remained under the 10+ deprioritization threshold
LOCATION:Valmiera
URL:https://sportplan.vercel.app/de/events/wings-for-life-world-run-latvia-2026-05-10
END:VEVENT
END:VCALENDAR
